Workbook

Sheet Instructions
B3: This Excel workbook can help your congregation evaluate the progress of your stewardship program and project pledge revenues during your budget process. This spreadsheet is best used to evaluate pledge campaigns for the annual operating budget, because it is comparing data from year to year. In addition to this Instructions page, there are two pages to this worksheet: | I3: Tip: You can report to the Vestry on the pledge campaign and keep pledge information confidential by saving the Pledge Chart page as a PDF instead of sharing this entire workbook. The 'Date' cell on that page will default to today's date to facilitate this action. Simply go to File -> Save As -> and save the document as a PDF or go to File -> Print -> and print the page as a PDF. Email me if you have any trouble with this!
B11: Pledge Data - On this page, you will enter pledge information from last year's campaign, and then manually enter current campaign pledges as they arrive. Be careful not to copy and past information on this page, as that may interfere with the formulas that have been entered in hidden cells. Enter new pledges and make changes manually. If a new family pledges in the current year, and did not pledge last year, enter a 0 for the last year's pledge or leave it blank. If a family has not yet pledged in the current year, do not remove them from this list, even if they have transferred away or passed away. You will make those changes on the next page | I11: Important: The Pledge Data page currently has sample information so that you can see how the spreadsheet works. Be sure to delete this information before you begin filling it in. Don't delete the row, just the data.
K15: Questions, Concerns, or Frustrations?
K16: Call or email me and I will help.
K17: John Edgar, Director of Congregation Support
K18: 941-556-0315 x984
K19: jedgar@episcopalswfl.org
B22: Pledge Chart - This page shows you the results of the data that you entered on the Pledge Data page. The information is broken down into several categories:
B26: Pledges the Same - Shows the count, dollar amount, and average pledge of pledges that have remained the same compared to last year.
B28: Decreased Pledges - Shows the count, dollar amount, total change in pledges, and average pledge for those pledges that have decreased this year compared to last year.
B31: Increased Pledges - Shows the count, dollar amount, total change in pledges, and average pledge for those pledges that have increased this year compared to last year.
B35: New Pledges - Shows the count, dollar amount, total change in pledges, and average pledge for those pledges that are new this year compared to last year.
B39: No Pledge Received - Includes all of last year's pledges for which we have not yet received a pledge. These are our remaining "Potential Pledges".
B41: Known Transfers, Known Deaths, and Not Pledging - These lines include those people or families who pledged last year but will not be pledging this year for one of several reasons. Be sure to enter the total dollar amount of the pledges that you will not be receiving.
B43: Potential Pledge Totals - This includes all collected pledges + all potential pledges - those we know will not be pledging.

Sheet Pledge Data
A2: # | B2: Family | C2: 2022 Pledge | D2: 2023 Pledge | E2: 2022 Pledge? | F2: Pledge the Same? | G2: Same Pledge Values | H2: New in 2022? | I2: New Pledge Values | J2: Not Received? | K2: Not Received Value | L2: Increase? | M2: Increase Amount | N2: Increase Value | O2: Decrease? | P2: Decrease Amount | Q2: Decrease Value
A3: 1 | B3: Carol Abbott | C3: 0 | E3: =IF(D3>0,"Y","N") -> N | F3: =IF(AND(C3>0,D3>0,D3=C3),"Y","N") -> N | G3: =IF(F3="Y",D3,0) -> 0 | H3: =IF(AND(C3=0,D3>0),"Y","N") -> N | I3: =IF(H3="Y",D3,0) -> 0 | J3: =IF(AND(C3>0,D3=0),"Y","N") -> N | K3: =IF(J3="Y",C3,0) -> 0 | L3: =IF(AND(C3>0,D3>C3),"Y","N") -> N | M3: =IF(L3="Y",(D3-C3),0) -> 0 | N3: =IF(L3="Y",D3,0) -> 0 | O3: =IF(AND(C3>0,D3>0,D3<C3),"Y","N") -> N | P3: =IF(O3="Y",(C3-D3),0) -> 0 | Q3: =IF(O3="Y",D3,0) -> 0
A4: 2 | B4: Dewayne & Katherine Braddock | C4: 0 | E4: =IF(D4>0,"Y","N") -> N | F4: =IF(AND(C4>0,D4>0,D4=C4),"Y","N") -> N | G4: =IF(F4="Y",D4,0) -> 0 | H4: =IF(AND(C4=0,D4>0),"Y","N") -> N | I4: =IF(H4="Y",D4,0) -> 0 | J4: =IF(AND(C4>0,D4=0),"Y","N") -> N | K4: =IF(J4="Y",C4,0) -> 0 | L4: =IF(AND(C4>0,D4>C4),"Y","N") -> N | M4: =IF(L4="Y",(D4-C4),0) -> 0 | N4: =IF(L4="Y",D4,0) -> 0 | O4: =IF(AND(C4>0,D4>0,D4<C4),"Y","N") -> N | P4: =IF(O4="Y",(C4-D4),0) -> 0 | Q4: =IF(O4="Y",D4,0) -> 0
A5: 3 | B5: Donna Price | C5: 0 | E5: =IF(D5>0,"Y","N") -> N | F5: =IF(AND(C5>0,D5>0,D5=C5),"Y","N") -> N | G5: =IF(F5="Y",D5,0) -> 0 | H5: =IF(AND(C5=0,D5>0),"Y","N") -> N | I5: =IF(H5="Y",D5,0) -> 0 | J5: =IF(AND(C5>0,D5=0),"Y","N") -> N | K5: =IF(J5="Y",C5,0) -> 0 | L5: =IF(AND(C5>0,D5>C5),"Y","N") -> N | M5: =IF(L5="Y",(D5-C5),0) -> 0 | N5: =IF(L5="Y",D5,0) -> 0 | O5: =IF(AND(C5>0,D5>0,D5<C5),"Y","N") -> N | P5: =IF(O5="Y",(C5-D5),0) -> 0 | Q5: =IF(O5="Y",D5,0) -> 0
A6: 4 | B6: Forrest & Lauren Snipes | C6: 0 | E6: =IF(D6>0,"Y","N") -> N | F6: =IF(AND(C6>0,D6>0,D6=C6),"Y","N") -> N | G6: =IF(F6="Y",D6,0) -> 0 | H6: =IF(AND(C6=0,D6>0),"Y","N") -> N | I6: =IF(H6="Y",D6,0) -> 0 | J6: =IF(AND(C6>0,D6=0),"Y","N") -> N | K6: =IF(J6="Y",C6,0) -> 0 | L6: =IF(AND(C6>0,D6>C6),"Y","N") -> N | M6: =IF(L6="Y",(D6-C6),0) -> 0 | N6: =IF(L6="Y",D6,0) -> 0 | O6: =IF(AND(C6>0,D6>0,D6<C6),"Y","N") -> N | P6: =IF(O6="Y",(C6-D6),0) -> 0 | Q6: =IF(O6="Y",D6,0) -> 0
A7: 5 | B7: Forrest & Lauren Snipes | C7: 1000 | D7: 0 | E7: =IF(D7>0,"Y","N") -> N | F7: =IF(AND(C7>0,D7>0,D7=C7),"Y","N") -> N | G7: =IF(F7="Y",D7,0) -> 0 | H7: =IF(AND(C7=0,D7>0),"Y","N") -> N | I7: =IF(H7="Y",D7,0) -> 0 | J7: =IF(AND(C7>0,D7=0),"Y","N") -> Y | K7: =IF(J7="Y",C7,0) -> 1000 | L7: =IF(AND(C7>0,D7>C7),"Y","N") -> N | M7: =IF(L7="Y",(D7-C7),0) -> 0 | N7: =IF(L7="Y",D7,0) -> 0 | O7: =IF(AND(C7>0,D7>0,D7<C7),"Y","N") -> N | P7: =IF(O7="Y",(C7-D7),0) -> 0 | Q7: =IF(O7="Y",D7,0) -> 0
A8: 6 | B8: G | C8: 0 | D8: 1000 | E8: =IF(D8>0,"Y","N") -> Y | F8: =IF(AND(C8>0,D8>0,D8=C8),"Y","N") -> N | G8: =IF(F8="Y",D8,0) -> 0 | H8: =IF(AND(C8=0,D8>0),"Y","N") -> Y | I8: =IF(H8="Y",D8,0) -> 1000 | J8: =IF(AND(C8>0,D8=0),"Y","N") -> N | K8: =IF(J8="Y",C8,0) -> 0 | L8: =IF(AND(C8>0,D8>C8),"Y","N") -> N | M8: =IF(L8="Y",(D8-C8),0) -> 0 | N8: =IF(L8="Y",D8,0) -> 0 | O8: =IF(AND(C8>0,D8>0,D8<C8),"Y","N") -> N | P8: =IF(O8="Y",(C8-D8),0) -> 0 | Q8: =IF(O8="Y",D8,0) -> 0
A9: 7 | B9: Howard & Lori Lawerance | C9: 0 | E9: =IF(D9>0,"Y","N") -> N | F9: =IF(AND(C9>0,D9>0,D9=C9),"Y","N") -> N | G9: =IF(F9="Y",D9,0) -> 0 | H9: =IF(AND(C9=0,D9>0),"Y","N") -> N | I9: =IF(H9="Y",D9,0) -> 0 | J9: =IF(AND(C9>0,D9=0),"Y","N") -> N | K9: =IF(J9="Y",C9,0) -> 0 | L9: =IF(AND(C9>0,D9>C9),"Y","N") -> N | M9: =IF(L9="Y",(D9-C9),0) -> 0 | N9: =IF(L9="Y",D9,0) -> 0 | O9: =IF(AND(C9>0,D9>0,D9<C9),"Y","N") -> N | P9: =IF(O9="Y",(C9-D9),0) -> 0 | Q9: =IF(O9="Y",D9,0) -> 0
A10: 8 | B10: Howard & Lori Lawerance | D10: 1000 | E10: =IF(D10>0,"Y","N") -> Y | F10: =IF(AND(C10>0,D10>0,D10=C10),"Y","N") -> N | G10: =IF(F10="Y",D10,0) -> 0 | H10: =IF(AND(C10=0,D10>0),"Y","N") -> Y | I10: =IF(H10="Y",D10,0) -> 1000 | J10: =IF(AND(C10>0,D10=0),"Y","N") -> N | K10: =IF(J10="Y",C10,0) -> 0 | L10: =IF(AND(C10>0,D10>C10),"Y","N") -> N | M10: =IF(L10="Y",(D10-C10),0) -> 0 | N10: =IF(L10="Y",D10,0) -> 0 | O10: =IF(AND(C10>0,D10>0,D10<C10),"Y","N") -> N | P10: =IF(O10="Y",(C10-D10),0) -> 0 | Q10: =IF(O10="Y",D10,0) -> 0
A11: 9 | B11: Jim & Jane Aaron | C11: 2000 | D11: 2500 | E11: =IF(D11>0,"Y","N") -> Y | F11: =IF(AND(C11>0,D11>0,D11=C11),"Y","N") -> N | G11: =IF(F11="Y",D11,0) -> 0 | H11: =IF(AND(C11=0,D11>0),"Y","N") -> N | I11: =IF(H11="Y",D11,0) -> 0 | J11: =IF(AND(C11>0,D11=0),"Y","N") -> N | K11: =IF(J11="Y",C11,0) -> 0 | L11: =IF(AND(C11>0,D11>C11),"Y","N") -> Y | M11: =IF(L11="Y",(D11-C11),0) -> 500 | N11: =IF(L11="Y",D11,0) -> 2500 | O11: =IF(AND(C11>0,D11>0,D11<C11),"Y","N") -> N | P11: =IF(O11="Y",(C11-D11),0) -> 0 | Q11: =IF(O11="Y",D11,0) -> 0
A12: 10 | B12: Jim & Jane Aaron | C12: 500 | D12: 500 | E12: =IF(D12>0,"Y","N") -> Y | F12: =IF(AND(C12>0,D12>0,D12=C12),"Y","N") -> Y | G12: =IF(F12="Y",D12,0) -> 500 | H12: =IF(AND(C12=0,D12>0),"Y","N") -> N | I12: =IF(H12="Y",D12,0) -> 0 | J12: =IF(AND(C12>0,D12=0),"Y","N") -> N | K12: =IF(J12="Y",C12,0) -> 0 | L12: =IF(AND(C12>0,D12>C12),"Y","N") -> N | M12: =IF(L12="Y",(D12-C12),0) -> 0 | N12: =IF(L12="Y",D12,0) -> 0 | O12: =IF(AND(C12>0,D12>0,D12<C12),"Y","N") -> N | P12: =IF(O12="Y",(C12-D12),0) -> 0 | Q12: =IF(O12="Y",D12,0) -> 0
A13: 11 | B13: Leo Campbell | C13: 0 | E13: =IF(D13>0,"Y","N") -> N | F13: =IF(AND(C13>0,D13>0,D13=C13),"Y","N") -> N | G13: =IF(F13="Y",D13,0) -> 0 | H13: =IF(AND(C13=0,D13>0),"Y","N") -> N | I13: =IF(H13="Y",D13,0) -> 0 | J13: =IF(AND(C13>0,D13=0),"Y","N") -> N | K13: =IF(J13="Y",C13,0) -> 0 | L13: =IF(AND(C13>0,D13>C13),"Y","N") -> N | M13: =IF(L13="Y",(D13-C13),0) -> 0 | N13: =IF(L13="Y",D13,0) -> 0 | O13: =IF(AND(C13>0,D13>0,D13<C13),"Y","N") -> N | P13: =IF(O13="Y",(C13-D13),0) -> 0 | Q13: =IF(O13="Y",D13,0) -> 0
A14: 12 | B14: Mark & Amanda Butler | C14: 0 | E14: =IF(D14>0,"Y","N") -> N | F14: =IF(AND(C14>0,D14>0,D14=C14),"Y","N") -> N | G14: =IF(F14="Y",D14,0) -> 0 | H14: =IF(AND(C14=0,D14>0),"Y","N") -> N | I14: =IF(H14="Y",D14,0) -> 0 | J14: =IF(AND(C14>0,D14=0),"Y","N") -> N | K14: =IF(J14="Y",C14,0) -> 0 | L14: =IF(AND(C14>0,D14>C14),"Y","N") -> N | M14: =IF(L14="Y",(D14-C14),0) -> 0 | N14: =IF(L14="Y",D14,0) -> 0 | O14: =IF(AND(C14>0,D14>0,D14<C14),"Y","N") -> N | P14: =IF(O14="Y",(C14-D14),0) -> 0 | Q14: =IF(O14="Y",D14,0) -> 0
A15: 13 | B15: Matthew & Kimberly Baker | C15: 0 | E15: =IF(D15>0,"Y","N") -> N | F15: =IF(AND(C15>0,D15>0,D15=C15),"Y","N") -> N | G15: =IF(F15="Y",D15,0) -> 0 | H15: =IF(AND(C15=0,D15>0),"Y","N") -> N | I15: =IF(H15="Y",D15,0) -> 0 | J15: =IF(AND(C15>0,D15=0),"Y","N") -> N | K15: =IF(J15="Y",C15,0) -> 0 | L15: =IF(AND(C15>0,D15>C15),"Y","N") -> N | M15: =IF(L15="Y",(D15-C15),0) -> 0 | N15: =IF(L15="Y",D15,0) -> 0 | O15: =IF(AND(C15>0,D15>0,D15<C15),"Y","N") -> N | P15: =IF(O15="Y",(C15-D15),0) -> 0 | Q15: =IF(O15="Y",D15,0) -> 0
A16: 14 | B16: Neil Cannon | C16: 0 | E16: =IF(D16>0,"Y","N") -> N | F16: =IF(AND(C16>0,D16>0,D16=C16),"Y","N") -> N | G16: =IF(F16="Y",D16,0) -> 0 | H16: =IF(AND(C16=0,D16>0),"Y","N") -> N | I16: =IF(H16="Y",D16,0) -> 0 | J16: =IF(AND(C16>0,D16=0),"Y","N") -> N | K16: =IF(J16="Y",C16,0) -> 0 | L16: =IF(AND(C16>0,D16>C16),"Y","N") -> N | M16: =IF(L16="Y",(D16-C16),0) -> 0 | N16: =IF(L16="Y",D16,0) -> 0 | O16: =IF(AND(C16>0,D16>0,D16<C16),"Y","N") -> N | P16: =IF(O16="Y",(C16-D16),0) -> 0 | Q16: =IF(O16="Y",D16,0) -> 0
A17: 15 | B17: Rachael Acorn | C17: 0 | E17: =IF(D17>0,"Y","N") -> N | F17: =IF(AND(C17>0,D17>0,D17=C17),"Y","N") -> N | G17: =IF(F17="Y",D17,0) -> 0 | H17: =IF(AND(C17=0,D17>0),"Y","N") -> N | I17: =IF(H17="Y",D17,0) -> 0 | J17: =IF(AND(C17>0,D17=0),"Y","N") -> N | K17: =IF(J17="Y",C17,0) -> 0 | L17: =IF(AND(C17>0,D17>C17),"Y","N") -> N | M17: =IF(L17="Y",(D17-C17),0) -> 0 | N17: =IF(L17="Y",D17,0) -> 0 | O17: =IF(AND(C17>0,D17>0,D17<C17),"Y","N") -> N | P17: =IF(O17="Y",(C17-D17),0) -> 0 | Q17: =IF(O17="Y",D17,0) -> 0
A18: 16 | B18: Randy & Sanjeve King | C18: 500 | E18: =IF(D18>0,"Y","N") -> N | F18: =IF(AND(C18>0,D18>0,D18=C18),"Y","N") -> N | G18: =IF(F18="Y",D18,0) -> 0 | H18: =IF(AND(C18=0,D18>0),"Y","N") -> N | I18: =IF(H18="Y",D18,0) -> 0 | J18: =IF(AND(C18>0,D18=0),"Y","N") -> Y | K18: =IF(J18="Y",C18,0) -> 500 | L18: =IF(AND(C18>0,D18>C18),"Y","N") -> N | M18: =IF(L18="Y",(D18-C18),0) -> 0 | N18: =IF(L18="Y",D18,0) -> 0 | O18: =IF(AND(C18>0,D18>0,D18<C18),"Y","N") -> N | P18: =IF(O18="Y",(C18-D18),0) -> 0 | Q18: =IF(O18="Y",D18,0) -> 0
A19: 17 | B19: Richard & Wanda Coker | C19: 0 | E19: =IF(D19>0,"Y","N") -> N | F19: =IF(AND(C19>0,D19>0,D19=C19),"Y","N") -> N | G19: =IF(F19="Y",D19,0) -> 0 | H19: =IF(AND(C19=0,D19>0),"Y","N") -> N | I19: =IF(H19="Y",D19,0) -> 0 | J19: =IF(AND(C19>0,D19=0),"Y","N") -> N | K19: =IF(J19="Y",C19,0) -> 0 | L19: =IF(AND(C19>0,D19>C19),"Y","N") -> N | M19: =IF(L19="Y",(D19-C19),0) -> 0 | N19: =IF(L19="Y",D19,0) -> 0 | O19: =IF(AND(C19>0,D19>0,D19<C19),"Y","N") -> N | P19: =IF(O19="Y",(C19-D19),0) -> 0 | Q19: =IF(O19="Y",D19,0) -> 0
A20: 18 | B20: Scot Carnell | C20: 220 | D20: 220 | E20: =IF(D20>0,"Y","N") -> Y | F20: =IF(AND(C20>0,D20>0,D20=C20),"Y","N") -> Y | G20: =IF(F20="Y",D20,0) -> 220 | H20: =IF(AND(C20=0,D20>0),"Y","N") -> N | I20: =IF(H20="Y",D20,0) -> 0 | J20: =IF(AND(C20>0,D20=0),"Y","N") -> N | K20: =IF(J20="Y",C20,0) -> 0 | L20: =IF(AND(C20>0,D20>C20),"Y","N") -> N | M20: =IF(L20="Y",(D20-C20),0) -> 0 | N20: =IF(L20="Y",D20,0) -> 0 | O20: =IF(AND(C20>0,D20>0,D20<C20),"Y","N") -> N | P20: =IF(O20="Y",(C20-D20),0) -> 0 | Q20: =IF(O20="Y",D20,0) -> 0
A21: 19 | B21: Wilma Chapman | C21: 0 | E21: =IF(D21>0,"Y","N") -> N | F21: =IF(AND(C21>0,D21>0,D21=C21),"Y","N") -> N | G21: =IF(F21="Y",D21,0) -> 0 | H21: =IF(AND(C21=0,D21>0),"Y","N") -> N | I21: =IF(H21="Y",D21,0) -> 0 | J21: =IF(AND(C21>0,D21=0),"Y","N") -> N | K21: =IF(J21="Y",C21,0) -> 0 | L21: =IF(AND(C21>0,D21>C21),"Y","N") -> N | M21: =IF(L21="Y",(D21-C21),0) -> 0 | N21: =IF(L21="Y",D21,0) -> 0 | O21: =IF(AND(C21>0,D21>0,D21<C21),"Y","N") -> N | P21: =IF(O21="Y",(C21-D21),0) -> 0 | Q21: =IF(O21="Y",D21,0) -> 0
A22: 20 | E22: =IF(D22>0,"Y","N") -> N | F22: =IF(AND(C22>0,D22>0,D22=C22),"Y","N") -> N | G22: =IF(F22="Y",D22,0) -> 0 | H22: =IF(AND(C22=0,D22>0),"Y","N") -> N | I22: =IF(H22="Y",D22,0) -> 0 | J22: =IF(AND(C22>0,D22=0),"Y","N") -> N | K22: =IF(J22="Y",C22,0) -> 0 | L22: =IF(AND(C22>0,D22>C22),"Y","N") -> N | M22: =IF(L22="Y",(D22-C22),0) -> 0 | N22: =IF(L22="Y",D22,0) -> 0 | O22: =IF(AND(C22>0,D22>0,D22<C22),"Y","N") -> N | P22: =IF(O22="Y",(C22-D22),0) -> 0 | Q22: =IF(O22="Y",D22,0) -> 0
A23: 21 | E23: =IF(D23>0,"Y","N") -> N | F23: =IF(AND(C23>0,D23>0,D23=C23),"Y","N") -> N | G23: =IF(F23="Y",D23,0) -> 0 | H23: =IF(AND(C23=0,D23>0),"Y","N") -> N | I23: =IF(H23="Y",D23,0) -> 0 | J23: =IF(AND(C23>0,D23=0),"Y","N") -> N | K23: =IF(J23="Y",C23,0) -> 0 | L23: =IF(AND(C23>0,D23>C23),"Y","N") -> N | M23: =IF(L23="Y",(D23-C23),0) -> 0 | N23: =IF(L23="Y",D23,0) -> 0 | O23: =IF(AND(C23>0,D23>0,D23<C23),"Y","N") -> N | P23: =IF(O23="Y",(C23-D23),0) -> 0 | Q23: =IF(O23="Y",D23,0) -> 0
A24: 22 | E24: =IF(D24>0,"Y","N") -> N | F24: =IF(AND(C24>0,D24>0,D24=C24),"Y","N") -> N | G24: =IF(F24="Y",D24,0) -> 0 | H24: =IF(AND(C24=0,D24>0),"Y","N") -> N | I24: =IF(H24="Y",D24,0) -> 0 | J24: =IF(AND(C24>0,D24=0),"Y","N") -> N | K24: =IF(J24="Y",C24,0) -> 0 | L24: =IF(AND(C24>0,D24>C24),"Y","N") -> N | M24: =IF(L24="Y",(D24-C24),0) -> 0 | N24: =IF(L24="Y",D24,0) -> 0 | O24: =IF(AND(C24>0,D24>0,D24<C24),"Y","N") -> N | P24: =IF(O24="Y",(C24-D24),0) -> 0 | Q24: =IF(O24="Y",D24,0) -> 0
A25: 23 | E25: =IF(D25>0,"Y","N") -> N | F25: =IF(AND(C25>0,D25>0,D25=C25),"Y","N") -> N | G25: =IF(F25="Y",D25,0) -> 0 | H25: =IF(AND(C25=0,D25>0),"Y","N") -> N | I25: =IF(H25="Y",D25,0) -> 0 | J25: =IF(AND(C25>0,D25=0),"Y","N") -> N | K25: =IF(J25="Y",C25,0) -> 0 | L25: =IF(AND(C25>0,D25>C25),"Y","N") -> N | M25: =IF(L25="Y",(D25-C25),0) -> 0 | N25: =IF(L25="Y",D25,0) -> 0 | O25: =IF(AND(C25>0,D25>0,D25<C25),"Y","N") -> N | P25: =IF(O25="Y",(C25-D25),0) -> 0 | Q25: =IF(O25="Y",D25,0) -> 0
A26: 24 | E26: =IF(D26>0,"Y","N") -> N | F26: =IF(AND(C26>0,D26>0,D26=C26),"Y","N") -> N | G26: =IF(F26="Y",D26,0) -> 0 | H26: =IF(AND(C26=0,D26>0),"Y","N") -> N | I26: =IF(H26="Y",D26,0) -> 0 | J26: =IF(AND(C26>0,D26=0),"Y","N") -> N | K26: =IF(J26="Y",C26,0) -> 0 | L26: =IF(AND(C26>0,D26>C26),"Y","N") -> N | M26: =IF(L26="Y",(D26-C26),0) -> 0 | N26: =IF(L26="Y",D26,0) -> 0 | O26: =IF(AND(C26>0,D26>0,D26<C26),"Y","N") -> N | P26: =IF(O26="Y",(C26-D26),0) -> 0 | Q26: =IF(O26="Y",D26,0) -> 0
A27: 25 | E27: =IF(D27>0,"Y","N") -> N | F27: =IF(AND(C27>0,D27>0,D27=C27),"Y","N") -> N | G27: =IF(F27="Y",D27,0) -> 0 | H27: =IF(AND(C27=0,D27>0),"Y","N") -> N | I27: =IF(H27="Y",D27,0) -> 0 | J27: =IF(AND(C27>0,D27=0),"Y","N") -> N | K27: =IF(J27="Y",C27,0) -> 0 | L27: =IF(AND(C27>0,D27>C27),"Y","N") -> N | M27: =IF(L27="Y",(D27-C27),0) -> 0 | N27: =IF(L27="Y",D27,0) -> 0 | O27: =IF(AND(C27>0,D27>0,D27<C27),"Y","N") -> N | P27: =IF(O27="Y",(C27-D27),0) -> 0 | Q27: =IF(O27="Y",D27,0) -> 0
A28: 26 | E28: =IF(D28>0,"Y","N") -> N | F28: =IF(AND(C28>0,D28>0,D28=C28),"Y","N") -> N | G28: =IF(F28="Y",D28,0) -> 0 | H28: =IF(AND(C28=0,D28>0),"Y","N") -> N | I28: =IF(H28="Y",D28,0) -> 0 | J28: =IF(AND(C28>0,D28=0),"Y","N") -> N | K28: =IF(J28="Y",C28,0) -> 0 | L28: =IF(AND(C28>0,D28>C28),"Y","N") -> N | M28: =IF(L28="Y",(D28-C28),0) -> 0 | N28: =IF(L28="Y",D28,0) -> 0 | O28: =IF(AND(C28>0,D28>0,D28<C28),"Y","N") -> N | P28: =IF(O28="Y",(C28-D28),0) -> 0 | Q28: =IF(O28="Y",D28,0) -> 0
A29: 27 | E29: =IF(D29>0,"Y","N") -> N | F29: =IF(AND(C29>0,D29>0,D29=C29),"Y","N") -> N | G29: =IF(F29="Y",D29,0) -> 0 | H29: =IF(AND(C29=0,D29>0),"Y","N") -> N | I29: =IF(H29="Y",D29,0) -> 0 | J29: =IF(AND(C29>0,D29=0),"Y","N") -> N | K29: =IF(J29="Y",C29,0) -> 0 | L29: =IF(AND(C29>0,D29>C29),"Y","N") -> N | M29: =IF(L29="Y",(D29-C29),0) -> 0 | N29: =IF(L29="Y",D29,0) -> 0 | O29: =IF(AND(C29>0,D29>0,D29<C29),"Y","N") -> N | P29: =IF(O29="Y",(C29-D29),0) -> 0 | Q29: =IF(O29="Y",D29,0) -> 0
A30: 28 | E30: =IF(D30>0,"Y","N") -> N | F30: =IF(AND(C30>0,D30>0,D30=C30),"Y","N") -> N | G30: =IF(F30="Y",D30,0) -> 0 | H30: =IF(AND(C30=0,D30>0),"Y","N") -> N | I30: =IF(H30="Y",D30,0) -> 0 | J30: =IF(AND(C30>0,D30=0),"Y","N") -> N | K30: =IF(J30="Y",C30,0) -> 0 | L30: =IF(AND(C30>0,D30>C30),"Y","N") -> N | M30: =IF(L30="Y",(D30-C30),0) -> 0 | N30: =IF(L30="Y",D30,0) -> 0 | O30: =IF(AND(C30>0,D30>0,D30<C30),"Y","N") -> N | P30: =IF(O30="Y",(C30-D30),0) -> 0 | Q30: =IF(O30="Y",D30,0) -> 0
A31: 29 | E31: =IF(D31>0,"Y","N") -> N | F31: =IF(AND(C31>0,D31>0,D31=C31),"Y","N") -> N | G31: =IF(F31="Y",D31,0) -> 0 | H31: =IF(AND(C31=0,D31>0),"Y","N") -> N | I31: =IF(H31="Y",D31,0) -> 0 | J31: =IF(AND(C31>0,D31=0),"Y","N") -> N | K31: =IF(J31="Y",C31,0) -> 0 | L31: =IF(AND(C31>0,D31>C31),"Y","N") -> N | M31: =IF(L31="Y",(D31-C31),0) -> 0 | N31: =IF(L31="Y",D31,0) -> 0 | O31: =IF(AND(C31>0,D31>0,D31<C31),"Y","N") -> N | P31: =IF(O31="Y",(C31-D31),0) -> 0 | Q31: =IF(O31="Y",D31,0) -> 0
A32: 30 | E32: =IF(D32>0,"Y","N") -> N | F32: =IF(AND(C32>0,D32>0,D32=C32),"Y","N") -> N | G32: =IF(F32="Y",D32,0) -> 0 | H32: =IF(AND(C32=0,D32>0),"Y","N") -> N | I32: =IF(H32="Y",D32,0) -> 0 | J32: =IF(AND(C32>0,D32=0),"Y","N") -> N | K32: =IF(J32="Y",C32,0) -> 0 | L32: =IF(AND(C32>0,D32>C32),"Y","N") -> N | M32: =IF(L32="Y",(D32-C32),0) -> 0 | N32: =IF(L32="Y",D32,0) -> 0 | O32: =IF(AND(C32>0,D32>0,D32<C32),"Y","N") -> N | P32: =IF(O32="Y",(C32-D32),0) -> 0 | Q32: =IF(O32="Y",D32,0) -> 0
A33: 31 | E33: =IF(D33>0,"Y","N") -> N | F33: =IF(AND(C33>0,D33>0,D33=C33),"Y","N") -> N | G33: =IF(F33="Y",D33,0) -> 0 | H33: =IF(AND(C33=0,D33>0),"Y","N") -> N | I33: =IF(H33="Y",D33,0) -> 0 | J33: =IF(AND(C33>0,D33=0),"Y","N") -> N | K33: =IF(J33="Y",C33,0) -> 0 | L33: =IF(AND(C33>0,D33>C33),"Y","N") -> N | M33: =IF(L33="Y",(D33-C33),0) -> 0 | N33: =IF(L33="Y",D33,0) -> 0 | O33: =IF(AND(C33>0,D33>0,D33<C33),"Y","N") -> N | P33: =IF(O33="Y",(C33-D33),0) -> 0 | Q33: =IF(O33="Y",D33,0) -> 0
... A327: 325 | E327: =IF(D327>0,"Y","N") -> N | F327: =IF(AND(C327>0,D327>0,D327=C327),"Y","N") -> N | G327: =IF(F327="Y",D327,0) -> 0 | H327: =IF(AND(C327=0,D327>0),"Y","N") -> N | I327: =IF(H327="Y",D327,0) -> 0 | J327: =IF(AND(C327>0,D327=0),"Y","N") -> N | K327: =IF(J327="Y",C327,0) -> 0 | L327: =IF(AND(C327>0,D327>C327),"Y","N") -> N | M327: =IF(L327="Y",(D327-C327),0) -> 0 | N327: =IF(L327="Y",D327,0) -> 0 | O327: =IF(AND(C327>0,D327>0,D327<C327),"Y","N") -> N | P327: =IF(O327="Y",(C327-D327),0) -> 0 | Q327: =IF(O327="Y",D327,0) -> 0
B329: Total | E329: =COUNTIF(E3:E327,"Y") -> 5 | F329: =COUNTIF(F3:F327,"Y") -> 2 | G329: =SUM(G3:G327) -> 720 | H329: =COUNTIF(H3:H327,"Y") -> 2 | I329: =SUM(I3:I327) -> 2000 | J329: =COUNTIF(J3:J327,"Y") -> 2 | K329: =SUM(K3:K327) -> 1500 | L329: =COUNTIF(L3:L327,"Y") -> 1 | M329: =SUM(M3:M327) -> 500 | N329: =SUM(N3:N327) -> 2500 | O329: =COUNTIF(O3:O327,"Y") -> 0 | P329: =SUM(P3:P327) -> 0 | Q329: =SUM(Q3:Q327) -> 0

Sheet Pledge Chart
C2: Pledge Campaign Update
B5: Date: | C5: =TODAY() -> 44805
C6: Count | D6: Dollar Amount | E6: Change in Pledge | F6: Pledge Per Giving Family
B8: Pledges the Same | C8: ='Pledge Data'!F329 -> 2 | D8: ='Pledge Data'!G329 -> 720 | E8: 0 | F8: =D8/C8 -> 360
B9: Decreased Pledges | C9: ='Pledge Data'!O329 -> 0 | D9: ='Pledge Data'!Q329 -> 0 | E9: =-('Pledge Data'!P329) -> 0 | F9: =D9/C9 -> #DIV/0!
B10: Increased Pledges | C10: ='Pledge Data'!L329 -> 1 | D10: ='Pledge Data'!N329 -> 2500 | E10: ='Pledge Data'!M329 -> 500 | F10: =D10/C10 -> 2500
B11: New Pledges | C11: ='Pledge Data'!H329 -> 2 | D11: ='Pledge Data'!I329 -> 2000 | E11: ='Pledge Data'!I329 -> 2000 | F11: =D11/C11 -> 1000
B13: Total | C13: =SUM(C8:C11) -> 5 | D13: =SUM(D8:D11) -> 5220 | E13: =SUM(E8:E11) -> 2500 | F13: =D13/C13 -> 1044
B15: No Pledge Received (Prior Year Pledges) | C15: ='Pledge Data'!J329 -> 2 | D15: ='Pledge Data'!K329 -> 1500 | E15: 0 | F15: =D15/C15 -> 750
C17: # of pledges | D17: Total $ of Pledges Lost
B18: Known Transfers
B19: Known Deaths | F19: Enter information here when available
B20: Not Pledging
C22: Count | D22: Dollar Amount | E22: Pledge per Giving Family
B23: Potential Pledge Totals | C23: =C13+C15-(C18+C19+C20) -> 7 | D23: =D13+D15-(D18+D19+D20) -> 6720 | E23: =D23/C23 -> 960
